BEGIN:VCALENDAR
VERSION:2.0
PRODID:-//wp-events-plugin.com//7.2.3.1//EN
BEGIN:VEVENT
UID:103@tcpignan.fr
DTSTART;TZID=Europe/Paris:20260313T123000
DTEND;TZID=Europe/Paris:20260313T173000
DTSTAMP:20260215T174752Z
URL:https://tcpignan.fr/events/p50-hommes-13-mars-apres-midi/
SUMMARY:P50 Hommes 13 Mars Après-midi (Complet\, inscriptions en liste d'a
 ttente)
DESCRIPTION:P50 Hommes programmé en après-midi\, sur les terrains du Tenn
 is Padel Pignan.\n\nPrérequis : Avoir un classement supérieur à 10.000\
 n\nOuverture des inscriptions au tournoi : le 15/02/2026 à 12h00.\n\n\n\n
 Lors de votre inscription à l'évènement\, merci de communiquer le NOM e
 t PRENOM\, CLASSEMENT\, ainsi que le N° de téléphone des 2 joueurs. Les
  convocations seront envoyées via WhatsApp par le juge arbitre. Aucune in
 scription ne sera prise en compte par contact direct du Juge arbitre.\n\nU
 n seul membre de la paire doit réaliser l'inscription pour les 2 joueurs.
  Il est inutile que les 2 coéquipiers réalisent l'inscription.
ATTACH;FMTTYPE=image/jpeg:https://tcpignan.fr/wp-content/uploads/2024/03/f
 ond-padel-classement.png
CATEGORIES:P50 Hommes
END:VEVENT
BEGIN:VTIMEZONE
TZID:Europe/Paris
X-LIC-LOCATION:Europe/Paris
BEGIN:STANDARD
DTSTART:20251026T020000
TZOFFSETFROM:+0200
TZOFFSETTO:+0100
TZNAME:CET
END:STANDARD
END:VTIMEZONE
END:VCALENDAR